BEGIN:VCALENDAR
VERSION:2.0
PRODID:-// - ECPv6.15.20//NONSGML v1.0//EN
CALSCALE:GREGORIAN
METHOD:PUBLISH
X-ORIGINAL-URL:https://www.dkp-saarland.de
X-WR-CALDESC:Veranstaltungen für 
REFRESH-INTERVAL;VALUE=DURATION:PT1H
X-Robots-Tag:noindex
X-PUBLISHED-TTL:PT1H
BEGIN:VTIMEZONE
TZID:Europe/Berlin
BEGIN:DAYLIGHT
TZOFFSETFROM:+0100
TZOFFSETTO:+0200
TZNAME:CEST
DTSTART:20220327T010000
END:DAYLIGHT
BEGIN:STANDARD
TZOFFSETFROM:+0200
TZOFFSETTO:+0100
TZNAME:CET
DTSTART:20221030T010000
END:STANDARD
BEGIN:DAYLIGHT
TZOFFSETFROM:+0100
TZOFFSETTO:+0200
TZNAME:CEST
DTSTART:20230326T010000
END:DAYLIGHT
BEGIN:STANDARD
TZOFFSETFROM:+0200
TZOFFSETTO:+0100
TZNAME:CET
DTSTART:20231029T010000
END:STANDARD
BEGIN:DAYLIGHT
TZOFFSETFROM:+0100
TZOFFSETTO:+0200
TZNAME:CEST
DTSTART:20240331T010000
END:DAYLIGHT
BEGIN:STANDARD
TZOFFSETFROM:+0200
TZOFFSETTO:+0100
TZNAME:CET
DTSTART:20241027T010000
END:STANDARD
END:VTIMEZONE
BEGIN:VEVENT
DTSTART;TZID=Europe/Berlin:20230121T180000
DTEND;TZID=Europe/Berlin:20230121T200000
DTSTAMP:20260423T211949
CREATED:20221221T122915Z
LAST-MODIFIED:20221221T122915Z
UID:319-1674324000-1674331200@www.dkp-saarland.de
SUMMARY:Solidarität mit Cuba – Berichte von einer Studienreise
DESCRIPTION:Versammlungsraum im Kultur- und Werkhof Nauwieser 19\, NauwieserStr. 19 66111 Saarbrücken (über Kino Achteinhalb) \nSeit über 60 Jahren kämpft Cuba nun schon gegen die US-Blockade und für seinen eigenständigen sozialistischen Entwicklungsweg. Die Auswirkungen der umfassenden Wirtschafts-\, Handels- und Finanzblockade spürt Cuba täglich. Zum 30. Mal in Folge hat die UN-Vollversammlung dieses Jahr die Aufhebung der US-Handelsbeschränkungen gefordert. Für die Resolution stimmten 185 der 193 UN-Mitgliedsländer\, auch Deutschland. Bei nur zwei Enthaltungen und zwei Gegenstimmen. \nDrei Saarländer*innen nahmen Ende 2022 an einer Studienreise durch Cuba teil. Auf der Veranstaltung berichten sie – mit Fotos unterlegt – von ihren Erlebnissen\, Treffen und Erfahrungen eines Landes im Umbruch und mit großen Herausforderungen. \nJahresauftaktveranstaltung der Deutschen Kommunistischen Partei Saarland
URL:https://www.dkp-saarland.de/event/solidaritaet-mit-cuba-berichte-von-einer-studienreise/
LOCATION:Versammlungsraum N19 (Hintergebäude\, 1. Etage über Kino 8 1/2)\, Nauwieserstraße 19\, Saarbrücken\, 66111
ATTACH;FMTTYPE=image/png:https://www.dkp-saarland.de/wp-content/uploads/2022/12/Flag_of_Cuba.png
END:VEVENT
END:VCALENDAR