BEGIN:VCALENDAR
VERSION:2.0
PRODID:-// - ECPv6.15.20//NONSGML v1.0//EN
CALSCALE:GREGORIAN
METHOD:PUBLISH
X-ORIGINAL-URL:https://www.dkp-saarland.de
X-WR-CALDESC:Veranstaltungen für 
REFRESH-INTERVAL;VALUE=DURATION:PT1H
X-Robots-Tag:noindex
X-PUBLISHED-TTL:PT1H
BEGIN:VTIMEZONE
TZID:Europe/Berlin
BEGIN:DAYLIGHT
TZOFFSETFROM:+0100
TZOFFSETTO:+0200
TZNAME:CEST
DTSTART:20230326T010000
END:DAYLIGHT
BEGIN:STANDARD
TZOFFSETFROM:+0200
TZOFFSETTO:+0100
TZNAME:CET
DTSTART:20231029T010000
END:STANDARD
BEGIN:DAYLIGHT
TZOFFSETFROM:+0100
TZOFFSETTO:+0200
TZNAME:CEST
DTSTART:20240331T010000
END:DAYLIGHT
BEGIN:STANDARD
TZOFFSETFROM:+0200
TZOFFSETTO:+0100
TZNAME:CET
DTSTART:20241027T010000
END:STANDARD
BEGIN:DAYLIGHT
TZOFFSETFROM:+0100
TZOFFSETTO:+0200
TZNAME:CEST
DTSTART:20250330T010000
END:DAYLIGHT
BEGIN:STANDARD
TZOFFSETFROM:+0200
TZOFFSETTO:+0100
TZNAME:CET
DTSTART:20251026T010000
END:STANDARD
END:VTIMEZONE
BEGIN:VEVENT
DTSTART;TZID=Europe/Berlin:20240426T183000
DTEND;TZID=Europe/Berlin:20240426T183000
DTSTAMP:20260420T185709
CREATED:20240410T123835Z
LAST-MODIFIED:20240410T124039Z
UID:456-1714156200-1714156200@www.dkp-saarland.de
SUMMARY:Diskussionsveranstaltung „Wie bekämpfen wir wirksam die AfD?“
DESCRIPTION:Freitag\, 26. April 2024 18.30 Uhr\nVeranstaltungsraum Nauwieser 19\, Nauwieserstraße 19\, 66111 Saarbrücken\nMillionen Menschen sind in den letzten Monaten gemeinsam gegen Rassismus und die Angriffe der AfD auf die bürgerliche Demokratie auf die Straße gegangen. Endlich wurde sichtbar\, dass viele bereit sind\, sich gegen die erstarkenden faschistischen Kräfte zu wehren.\nDoch eine Frage bleibt: Rechtsextreme und Nationalisten haben nahezu weltweit an Kraft gewonnen. Wie kann es also gelingen\, den faschistischen Vormarsch zu stoppen? Welche Erfahrungen gibt es? Wie können Antifaschist*innen die AfD wirksam bekämpfen?\nMit Demonstrationen allein wird es nicht getan sein.\nAuf der Veranstaltung wollen wir diese Fragen mit Antifaschist*innen aus verschiedenen Generationen diskutieren.\nMit:\nNicole Schuh\, Vorsitzende der Vereinigung der Verfolgten des Naziregimes – Bund der Antifaschist*innen Saar (VVN)\,\nKarl-Heinz Kesternich\, jahrzehntelang in der VVN aktiv und\nThomas Hagenhofer\, Landesvorsitzender der Deutschen Kommunistischen Partei Saarland\nDer Eintritt ist frei. Um eine Spende zur Finanzierung wird gebeten.\nEine Veranstaltung der DKP Saarland und der VVN-BdA Saar
URL:https://www.dkp-saarland.de/event/diskussionsveranstaltung-wie-bekaempfen-wir-wirksam-die-afd/
LOCATION:Versammlungsraum N19 (Hintergebäude\, 1. Etage über Kino 8 1/2)\, Nauwieserstraße 19\, Saarbrücken\, 66111
ATTACH;FMTTYPE=image/jpeg:https://www.dkp-saarland.de/wp-content/uploads/2024/04/FCK_AFD-Sticker_in_Hof_20200307_05.jpg
END:VEVENT
END:VCALENDAR