BEGIN:VCALENDAR
VERSION:2.0
PRODID:-// - ECPv6.15.20//NONSGML v1.0//EN
CALSCALE:GREGORIAN
METHOD:PUBLISH
X-ORIGINAL-URL:https://www.dkp-saarland.de
X-WR-CALDESC:Veranstaltungen für 
REFRESH-INTERVAL;VALUE=DURATION:PT1H
X-Robots-Tag:noindex
X-PUBLISHED-TTL:PT1H
BEGIN:VTIMEZONE
TZID:Europe/Berlin
BEGIN:DAYLIGHT
TZOFFSETFROM:+0100
TZOFFSETTO:+0200
TZNAME:CEST
DTSTART:20230326T010000
END:DAYLIGHT
BEGIN:STANDARD
TZOFFSETFROM:+0200
TZOFFSETTO:+0100
TZNAME:CET
DTSTART:20231029T010000
END:STANDARD
BEGIN:DAYLIGHT
TZOFFSETFROM:+0100
TZOFFSETTO:+0200
TZNAME:CEST
DTSTART:20240331T010000
END:DAYLIGHT
BEGIN:STANDARD
TZOFFSETFROM:+0200
TZOFFSETTO:+0100
TZNAME:CET
DTSTART:20241027T010000
END:STANDARD
BEGIN:DAYLIGHT
TZOFFSETFROM:+0100
TZOFFSETTO:+0200
TZNAME:CEST
DTSTART:20250330T010000
END:DAYLIGHT
BEGIN:STANDARD
TZOFFSETFROM:+0200
TZOFFSETTO:+0100
TZNAME:CET
DTSTART:20251026T010000
END:STANDARD
END:VTIMEZONE
BEGIN:VEVENT
DTSTART;TZID=Europe/Berlin:20240825T160000
DTEND;TZID=Europe/Berlin:20240825T180000
DTSTAMP:20260420T121342
CREATED:20240812T123655Z
LAST-MODIFIED:20240812T123656Z
UID:480-1724601600-1724608800@www.dkp-saarland.de
SUMMARY:Gedenkfeier 90 Jahre "Nie zu Hitler!"
DESCRIPTION:Am 26. August 1934 fand die größte antifaschistische Kundgebung zwischen 1933 und 1945 auf deutschem Boden statt.\nIn Sulzbach\, am ehemaligen Reichsbannerheim\, fanden sich damals ca. 60.000-70.000 Menschen ein\, um gegen den Anschluss des Saargebiets an Hitlerdeutschland zu demonstrieren.\nIn diesem Jahr jährt sich dieses Ereignis zum 90. Mal.\n\n\nMit der Gedenkfeier „90 Jahre Nie zu Hitler!“ möchten wir an diesen historischen Tag erinnern.\n\n\n\n\n\nDen Link zur Anmeldung findet ihr hier: https://kurzlinks.de/gedenkfeier\n\n\nEine Veranstaltung des DGB Saar\, SPD Saar\, DIE LINKE Saarland\, DKP Saarland\, Naturfreunde Saarland\, VVN-BdA Saarland\, Arbeitskammer\, AWO Saarland\, ASB Saarland\, Peter-Imandt-Gesellschaft/Rosa-Luxemburg-Stiftung Saarland\, Stiftung Demokratie Saar in Zusammenarbeit mit der Stadt Sulzbach
URL:https://www.dkp-saarland.de/event/gedenkfeier-90-jahre-nie-zu-hitler/
LOCATION:Aula Sulzbach\, Gärtnerstraße 12\, Sulzbach\, 66280\, Deutschland
ATTACH;FMTTYPE=image/jpeg:https://www.dkp-saarland.de/wp-content/uploads/2024/08/Einladung2Sulzbach25082024.jpg
END:VEVENT
END:VCALENDAR