BEGIN:VCALENDAR
VERSION:2.0
PRODID:-// - ECPv6.15.17.1//NONSGML v1.0//EN
CALSCALE:GREGORIAN
METHOD:PUBLISH
X-ORIGINAL-URL:https://www.dkp-saarland.de
X-WR-CALDESC:Veranstaltungen für 
REFRESH-INTERVAL;VALUE=DURATION:PT1H
X-Robots-Tag:noindex
X-PUBLISHED-TTL:PT1H
BEGIN:VTIMEZONE
TZID:Europe/Berlin
BEGIN:DAYLIGHT
TZOFFSETFROM:+0100
TZOFFSETTO:+0200
TZNAME:CEST
DTSTART:20240331T010000
END:DAYLIGHT
BEGIN:STANDARD
TZOFFSETFROM:+0200
TZOFFSETTO:+0100
TZNAME:CET
DTSTART:20241027T010000
END:STANDARD
BEGIN:DAYLIGHT
TZOFFSETFROM:+0100
TZOFFSETTO:+0200
TZNAME:CEST
DTSTART:20250330T010000
END:DAYLIGHT
BEGIN:STANDARD
TZOFFSETFROM:+0200
TZOFFSETTO:+0100
TZNAME:CET
DTSTART:20251026T010000
END:STANDARD
BEGIN:DAYLIGHT
TZOFFSETFROM:+0100
TZOFFSETTO:+0200
TZNAME:CEST
DTSTART:20260329T010000
END:DAYLIGHT
BEGIN:STANDARD
TZOFFSETFROM:+0200
TZOFFSETTO:+0100
TZNAME:CET
DTSTART:20261025T010000
END:STANDARD
END:VTIMEZONE
BEGIN:VEVENT
DTSTART;TZID=Europe/Berlin:20250216T110000
DTEND;TZID=Europe/Berlin:20250216T110000
DTSTAMP:20260420T023255
CREATED:20250126T130949Z
LAST-MODIFIED:20250126T132449Z
UID:520-1739703600-1739703600@www.dkp-saarland.de
SUMMARY:„Völkermord\, Kriegsverbrechen\, Aushungern“: Was passiert in Gaza? Welche Rolle spielen unsere Regierungen?
DESCRIPTION:Diskussionsveranstaltung mit Rana Issazadeh\,\nAnwältin und aktiv bei der Gruppe Yallah Shalom\nSeit dem Massaker der Hamas vom 7.10.2023 führt die israelische Regierung einen brutalen Krieg gegen die Bevölkerung in Gaza. In den Medien kann das Morden live verfolgt werden\, dem bereits zehntausende Menschen\, insbesondere Frauen und Kinder\, zum Opfer gefallen sind. Empörend ist die verbreitete Gleichgültigkeit gegenüber dem Leid in Gaza in Politik\, Medien und Zivilgesellschaft in Deutschland. Die Unterstützung der Bundesregierung – insbesondere durch Waffenlieferungen an Israel – ist völkerrechtswidrig.\nWir wollen uns auf der Veranstaltung ein Bild machen von den Auswirkungen des Krieges und über die rechtliche Einordnung diskutieren. Zudem wollen wir mögliche Perspektiven zur Beendigung des Krieges und für einen gerechten Frieden in Israel/Palästina beleuchten.\nDer Eintritt ist frei – um Spenden für die Menschen in Gaza wird gebeten.
URL:https://www.dkp-saarland.de/event/voelkermord-kriegsverbrechen-aushungern-was-passiert-in-gaza-welche-rolle-spielen-unsere-regierungen/
LOCATION:Versammlungsraum N19 (Hintergebäude\, 1. Etage über Kino 8 1/2)\, Nauwieserstraße 19\, Saarbrücken\, 66111
ATTACH;FMTTYPE=image/webp:https://www.dkp-saarland.de/wp-content/uploads/2025/01/gaza_ceasefire_CC-BY-3.0-NZ.webp
END:VEVENT
END:VCALENDAR