BEGIN:VCALENDAR
VERSION:2.0
PRODID:-// - ECPv6.15.20//NONSGML v1.0//EN
CALSCALE:GREGORIAN
METHOD:PUBLISH
X-ORIGINAL-URL:https://www.dkp-saarland.de
X-WR-CALDESC:Veranstaltungen für 
REFRESH-INTERVAL;VALUE=DURATION:PT1H
X-Robots-Tag:noindex
X-PUBLISHED-TTL:PT1H
BEGIN:VTIMEZONE
TZID:Europe/Berlin
BEGIN:DAYLIGHT
TZOFFSETFROM:+0100
TZOFFSETTO:+0200
TZNAME:CEST
DTSTART:20210328T010000
END:DAYLIGHT
BEGIN:STANDARD
TZOFFSETFROM:+0200
TZOFFSETTO:+0100
TZNAME:CET
DTSTART:20211031T010000
END:STANDARD
BEGIN:DAYLIGHT
TZOFFSETFROM:+0100
TZOFFSETTO:+0200
TZNAME:CEST
DTSTART:20220327T010000
END:DAYLIGHT
BEGIN:STANDARD
TZOFFSETFROM:+0200
TZOFFSETTO:+0100
TZNAME:CET
DTSTART:20221030T010000
END:STANDARD
BEGIN:DAYLIGHT
TZOFFSETFROM:+0100
TZOFFSETTO:+0200
TZNAME:CEST
DTSTART:20230326T010000
END:DAYLIGHT
BEGIN:STANDARD
TZOFFSETFROM:+0200
TZOFFSETTO:+0100
TZNAME:CET
DTSTART:20231029T010000
END:STANDARD
END:VTIMEZONE
BEGIN:VEVENT
DTSTART;TZID=Europe/Berlin:20221112T150000
DTEND;TZID=Europe/Berlin:20221112T170000
DTSTAMP:20260423T225203
CREATED:20221110T123033Z
LAST-MODIFIED:20221110T123201Z
UID:295-1668265200-1668272400@www.dkp-saarland.de
SUMMARY:Genug ist genug - Reden\, Vernetzen\, Protestieren
DESCRIPTION:Raus auf die Straßen – ES IST GENUG!\n\n\nDie soziale Schere geht immer weiter auseinander. Die Kosten der Krisen werden auf die große Bevölkerungsmehrheit abgewälzt\, während Reiche immer reicher werden und Unternehmen immer neue Rekordgewinne erzielen. Die Entlastungspaketchen der Bundesregierung reichen bei weitem nicht aus\, um die soziale Krise abzuwenden! Vielmehr verteilt die Ampelregierung in der Klassengesellschaft aktiv Geld von unten nach oben.\n\n\nIm Saarland lebten bereits vor den neuesten Entwicklungen rund 20% der Bevölkerung in Armut oder waren akuter Armutsgefährdung. Tausende wissen nicht mehr\, wie sie am Monatsende Essen einkaufen oder wie sie ihre Mieten bezahlen\, geschweige denn\, wo sie das Geld für die nächste Nebenkostenabrechnung noch herholen sollen.\n\n\nWir sagen: Es ist genug! Wir wollen dagegen mit euch auf die Saarbrücker Straßen gehen: Miteinander reden\, gemeinsam protestieren und uns vernetzen. Deshalb kommt zu unserer Aktion am 12. November!\n\n\nUnsere Forderungen sind:\n\n\nSofortige Einführung eines Preisdeckels für Energie und Mieten!\nSofortiges Verbot von allen Gas-\, Strom-\, und Wassersperren!\nRekommunalisierung und Verstaatlichung der gesamten Energieversorgung!\nWiedereinführung des 9-Euro-Tickets und massiver Ausbau des ÖPNV!\nUnbürokratische Soforthilfen für alle Bedürftigen!\nEine deutliche Erhöhung der staatlichen Sozialhilfen!\nAnpassung der Leistungen nach dem Asylbewerberleistungsgesetz an die Inflationsrate!\nEin armutsfester Mindestlohn!\nLohnerhöhungen in allen kleineren und mittleren Gehaltsgruppen!\n100 Milliarden für Gesundheit und Bildung statt für Aufrüstung!\nWeg mit der Schuldenbremse!\nKrisenprofiteure jetzt zur Kasse!\n\n\nWir verstehen uns als eindeutig antifaschistisches Bündnis. Faschist:innen jeder Art\, ob blau oder braun\, haben daher nichts auf unseren Aktionen zu suchen!\n\n\nZum GENUG IST GENUG!-Bündnis Saarland gehören: Linksjugend [’solid] Saarland\, Rosa-Luxemburg-Stiftung Saarland/Peter-Imandt-Gesellschaft\, VVN-BDA Landesvereinigung Saar\, DKP Saarland\, Antifaschistisches Schüler:innenkollektiv\, Vier-Stunden-Liga Saar\, ConnAct Saar\, DIE LINKE Kreisverband Saarbrücken\, KGZ Saarbrücken
URL:https://www.dkp-saarland.de/event/genug-ist-genug-reden-vernetzen-protestieren/
LOCATION:Europagalerie Saarbrücken\, Reichsstraße\, Saarbrücken\, 66113
ATTACH;FMTTYPE=image/jpeg:https://www.dkp-saarland.de/wp-content/uploads/2022/11/314508671_122788910612734_7802595112765440480_n.jpg
END:VEVENT
END:VCALENDAR