BEGIN:VCALENDAR
VERSION:2.0
PRODID:-// - ECPv6.15.20//NONSGML v1.0//EN
CALSCALE:GREGORIAN
METHOD:PUBLISH
X-ORIGINAL-URL:https://www.dkp-saarland.de
X-WR-CALDESC:Veranstaltungen für 
REFRESH-INTERVAL;VALUE=DURATION:PT1H
X-Robots-Tag:noindex
X-PUBLISHED-TTL:PT1H
BEGIN:VTIMEZONE
TZID:Europe/Berlin
BEGIN:DAYLIGHT
TZOFFSETFROM:+0100
TZOFFSETTO:+0200
TZNAME:CEST
DTSTART:20220327T010000
END:DAYLIGHT
BEGIN:STANDARD
TZOFFSETFROM:+0200
TZOFFSETTO:+0100
TZNAME:CET
DTSTART:20221030T010000
END:STANDARD
BEGIN:DAYLIGHT
TZOFFSETFROM:+0100
TZOFFSETTO:+0200
TZNAME:CEST
DTSTART:20230326T010000
END:DAYLIGHT
BEGIN:STANDARD
TZOFFSETFROM:+0200
TZOFFSETTO:+0100
TZNAME:CET
DTSTART:20231029T010000
END:STANDARD
BEGIN:DAYLIGHT
TZOFFSETFROM:+0100
TZOFFSETTO:+0200
TZNAME:CEST
DTSTART:20240331T010000
END:DAYLIGHT
BEGIN:STANDARD
TZOFFSETFROM:+0200
TZOFFSETTO:+0100
TZNAME:CET
DTSTART:20241027T010000
END:STANDARD
END:VTIMEZONE
BEGIN:VEVENT
DTSTART;TZID=Europe/Berlin:20230609T180000
DTEND;TZID=Europe/Berlin:20230609T200000
DTSTAMP:20260423T120605
CREATED:20230514T140729Z
LAST-MODIFIED:20230514T140729Z
UID:350-1686333600-1686340800@www.dkp-saarland.de
SUMMARY:Marxismus für Einsteiger*innen
DESCRIPTION:Ein Grundkurs zu den Theorien von Marx\, Engels und Lenin von ConnAct Saar und DKP Saarland\nStarttermin: 9.06.23 in Saarbrücken\nWodurch entsteht gesellschaftliche Veränderung? Wieso gibt es staatliche Repression? Wie funktioniert Ausbeutung im Kapitalismus? Wie hat sich der Kapitalismus seit Marx verändert? Was ist eigentlich Sozialismus? \nDieser Kurs will eine Einführung sein für Interessierte ohne marxistische Vorkenntnisse. \nDer Kurs teilt sich in zwei Teile: \nTeil I: Marxismus und Kapitalismus \n5 Abende zu den Themen marxistische Geschichtsauffassung\, Staat und Gesellschaft\, politische Ökonomie\, Imperialismus und finanzmarktgetriebener Kapitalismus der Gegenwart \nTeil II: Sozialismus \n2 Abende zu den Themen Geschichte/Erfahrungen des Sozialismus und Sozialismusvorstellungen/Merkmale \nDer erste Termin des Kurses wird am Freitag\, den 9. Juni 23 um 18 Uhr in Saarbrücken stattfinden. Der genaue Ort wird bei Anmeldung mitgeteilt. Mit den Teilnehmenden werden die weiteren Termine und die Arbeitsweise festgelegt. Angestrebt wird ein vierzehntägiger Rhythmus der Termine. \nAnmeldungen zum Kurs werden erbeten unter: info@dkp-saarland.de.
URL:https://www.dkp-saarland.de/event/marxismus-fuer-einsteigerinnen/
ATTACH;FMTTYPE=image/jpeg:https://www.dkp-saarland.de/wp-content/uploads/2023/05/roter_keil_nachbau.jpg
END:VEVENT
END:VCALENDAR