BEGIN:VCALENDAR
VERSION:2.0
PRODID:-// - ECPv6.15.20//NONSGML v1.0//EN
CALSCALE:GREGORIAN
METHOD:PUBLISH
X-ORIGINAL-URL:https://www.dkp-saarland.de
X-WR-CALDESC:Veranstaltungen für 
REFRESH-INTERVAL;VALUE=DURATION:PT1H
X-Robots-Tag:noindex
X-PUBLISHED-TTL:PT1H
BEGIN:VTIMEZONE
TZID:Europe/Berlin
BEGIN:DAYLIGHT
TZOFFSETFROM:+0100
TZOFFSETTO:+0200
TZNAME:CEST
DTSTART:20220327T010000
END:DAYLIGHT
BEGIN:STANDARD
TZOFFSETFROM:+0200
TZOFFSETTO:+0100
TZNAME:CET
DTSTART:20221030T010000
END:STANDARD
BEGIN:DAYLIGHT
TZOFFSETFROM:+0100
TZOFFSETTO:+0200
TZNAME:CEST
DTSTART:20230326T010000
END:DAYLIGHT
BEGIN:STANDARD
TZOFFSETFROM:+0200
TZOFFSETTO:+0100
TZNAME:CET
DTSTART:20231029T010000
END:STANDARD
BEGIN:DAYLIGHT
TZOFFSETFROM:+0100
TZOFFSETTO:+0200
TZNAME:CEST
DTSTART:20240331T010000
END:DAYLIGHT
BEGIN:STANDARD
TZOFFSETFROM:+0200
TZOFFSETTO:+0100
TZNAME:CET
DTSTART:20241027T010000
END:STANDARD
END:VTIMEZONE
BEGIN:VEVENT
DTSTART;TZID=Europe/Berlin:20230804T160000
DTEND;TZID=Europe/Berlin:20230804T190000
DTSTAMP:20260421T062543
CREATED:20230629T070246Z
LAST-MODIFIED:20230802T085935Z
UID:356-1691164800-1691175600@www.dkp-saarland.de
SUMMARY:Sommerfest der DKP Saarland
DESCRIPTION:mit:  \n \nChilenischer Musik von Daniel Osorio \nPolitkabarett von Tommy Lerouge \nRede\, Gesprächen und Grillmöglichkeit (Grillgut bitte selbst mitbringen) \nGetränke gibt es im Naturfreundehaus. \nAnfahrt: Mit dem Auto auf der A1 bis Ausfahrt Saarbrücken Von-der-\nHeydt oder mit der Saarbahn bis Station Heinrichshaus\, weiter\nRichtung Kirschheck-Ortsmitte\, nach ca. 300 Metern rechts ab den\nBerg runter bis zum Naturfreundehaus.\nBitte meldet Eure Teilnahme unter: info@dkp-saarland.de
URL:https://www.dkp-saarland.de/event/sommerfest-der-dkp-saarland-2/
LOCATION:Naturfreundehaus Kirschheck\, Kirschheck 70\, Saarbrücken\, 66115\, Deutschland
ATTACH;FMTTYPE=image/png:https://www.dkp-saarland.de/wp-content/uploads/2021/02/cropped-dkp_saarland_logo_ham_sich.png
END:VEVENT
END:VCALENDAR