BEGIN:VCALENDAR
VERSION:2.0
PRODID:-// - ECPv6.15.20//NONSGML v1.0//EN
CALSCALE:GREGORIAN
METHOD:PUBLISH
X-ORIGINAL-URL:https://www.dkp-saarland.de
X-WR-CALDESC:Veranstaltungen für 
REFRESH-INTERVAL;VALUE=DURATION:PT1H
X-Robots-Tag:noindex
X-PUBLISHED-TTL:PT1H
BEGIN:VTIMEZONE
TZID:Europe/Berlin
BEGIN:DAYLIGHT
TZOFFSETFROM:+0100
TZOFFSETTO:+0200
TZNAME:CEST
DTSTART:20220327T010000
END:DAYLIGHT
BEGIN:STANDARD
TZOFFSETFROM:+0200
TZOFFSETTO:+0100
TZNAME:CET
DTSTART:20221030T010000
END:STANDARD
BEGIN:DAYLIGHT
TZOFFSETFROM:+0100
TZOFFSETTO:+0200
TZNAME:CEST
DTSTART:20230326T010000
END:DAYLIGHT
BEGIN:STANDARD
TZOFFSETFROM:+0200
TZOFFSETTO:+0100
TZNAME:CET
DTSTART:20231029T010000
END:STANDARD
BEGIN:DAYLIGHT
TZOFFSETFROM:+0100
TZOFFSETTO:+0200
TZNAME:CEST
DTSTART:20240331T010000
END:DAYLIGHT
BEGIN:STANDARD
TZOFFSETFROM:+0200
TZOFFSETTO:+0100
TZNAME:CET
DTSTART:20241027T010000
END:STANDARD
END:VTIMEZONE
BEGIN:VEVENT
DTSTART;TZID=Europe/Berlin:20231127T180000
DTEND;TZID=Europe/Berlin:20231127T200000
DTSTAMP:20260421T012315
CREATED:20231028T114046Z
LAST-MODIFIED:20231028T114046Z
UID:392-1701108000-1701115200@www.dkp-saarland.de
SUMMARY:Faschismus und Neoliberalismus am Beispiel Chiles
DESCRIPTION:Versammlungsraum Nauwieserstraße 19\, Saarbrücken\nInnenhof\, 1. Etage neben Kino\nFilm: „Chile: Das Volk gegen die Chicago Boys“ (58 min)\nanschließend: Diskussion \nDer blutige Putsch in Chile vor 50 Jahren brachte nicht nur eine brutale Militärdiktatur an die Macht. Zudem wurde das Land zu einem Experimentierfeld für ein ultraliberales Wirtschaftskonzept der sogenannten Chicago Boys. Diese Gruppe chilenischer Ökonomen waren von den Wirtschaftsideen Milton Friedmans inspiriert und konnten während der Diktatur die „reine Lehre“ des Neoliberalismus durchsetzen – mit fatalen Folgen für die Menschen in Chile. \nIn der Veranstaltung soll der aktuelle Widerstand gegen dieses Wirtschaftsmodell in Chile dargestellt und die inhaltlichen Bezüge zwischen Faschismus und Neoliberalismus diskutiert werden. \nEine Veranstaltung der DKP Saarland. Der Eintritt ist frei.
URL:https://www.dkp-saarland.de/event/faschismus-und-neoliberalismus-am-beispiel-chiles/
LOCATION:Versammlungsraum N19 (Hintergebäude\, 1. Etage über Kino 8 1/2)\, Nauwieserstraße 19\, Saarbrücken\, 66111
ATTACH;FMTTYPE=image/jpeg:https://www.dkp-saarland.de/wp-content/uploads/2023/10/pinochet_dollars_schnitt.jpg
END:VEVENT
END:VCALENDAR