BEGIN:VCALENDAR
VERSION:2.0
PRODID:-// - ECPv6.15.20//NONSGML v1.0//EN
CALSCALE:GREGORIAN
METHOD:PUBLISH
X-ORIGINAL-URL:https://www.dkp-saarland.de
X-WR-CALDESC:Veranstaltungen für 
REFRESH-INTERVAL;VALUE=DURATION:PT1H
X-Robots-Tag:noindex
X-PUBLISHED-TTL:PT1H
BEGIN:VTIMEZONE
TZID:Europe/Berlin
BEGIN:DAYLIGHT
TZOFFSETFROM:+0100
TZOFFSETTO:+0200
TZNAME:CEST
DTSTART:20230326T010000
END:DAYLIGHT
BEGIN:STANDARD
TZOFFSETFROM:+0200
TZOFFSETTO:+0100
TZNAME:CET
DTSTART:20231029T010000
END:STANDARD
BEGIN:DAYLIGHT
TZOFFSETFROM:+0100
TZOFFSETTO:+0200
TZNAME:CEST
DTSTART:20240331T010000
END:DAYLIGHT
BEGIN:STANDARD
TZOFFSETFROM:+0200
TZOFFSETTO:+0100
TZNAME:CET
DTSTART:20241027T010000
END:STANDARD
BEGIN:DAYLIGHT
TZOFFSETFROM:+0100
TZOFFSETTO:+0200
TZNAME:CEST
DTSTART:20250330T010000
END:DAYLIGHT
BEGIN:STANDARD
TZOFFSETFROM:+0200
TZOFFSETTO:+0100
TZNAME:CET
DTSTART:20251026T010000
END:STANDARD
END:VTIMEZONE
BEGIN:VEVENT
DTSTART;TZID=Europe/Berlin:20240817T150000
DTEND;TZID=Europe/Berlin:20240817T190000
DTSTAMP:20260420T110852
CREATED:20220727T145215Z
LAST-MODIFIED:20240715T130457Z
UID:238-1723906800-1723921200@www.dkp-saarland.de
SUMMARY:Sommerfest der DKP Saarland
DESCRIPTION:Friedens- und Arbeiter*innen-Lieder (Live) \nRede \nInfostände \nGute Gespräche \nFür Essen und kühle Getränke ist gesorgt!
URL:https://www.dkp-saarland.de/event/sommerfest-der-dkp-saarland/
LOCATION:Naturfreundehaus Sulzbach\, In der Hohl 32\, Sulzbach\, 66280\, Deutschland
ATTACH;FMTTYPE=image/png:https://www.dkp-saarland.de/wp-content/uploads/2022/03/600px-Friedenstaube_weiss_blau_kreis.svg_.png
END:VEVENT
BEGIN:VEVENT
DTSTART;TZID=Europe/Berlin:20240825T160000
DTEND;TZID=Europe/Berlin:20240825T180000
DTSTAMP:20260420T110852
CREATED:20240812T123655Z
LAST-MODIFIED:20240812T123656Z
UID:480-1724601600-1724608800@www.dkp-saarland.de
SUMMARY:Gedenkfeier 90 Jahre "Nie zu Hitler!"
DESCRIPTION:Am 26. August 1934 fand die größte antifaschistische Kundgebung zwischen 1933 und 1945 auf deutschem Boden statt.\nIn Sulzbach\, am ehemaligen Reichsbannerheim\, fanden sich damals ca. 60.000-70.000 Menschen ein\, um gegen den Anschluss des Saargebiets an Hitlerdeutschland zu demonstrieren.\nIn diesem Jahr jährt sich dieses Ereignis zum 90. Mal.\n\n\nMit der Gedenkfeier „90 Jahre Nie zu Hitler!“ möchten wir an diesen historischen Tag erinnern.\n\n\n\n\n\nDen Link zur Anmeldung findet ihr hier: https://kurzlinks.de/gedenkfeier\n\n\nEine Veranstaltung des DGB Saar\, SPD Saar\, DIE LINKE Saarland\, DKP Saarland\, Naturfreunde Saarland\, VVN-BdA Saarland\, Arbeitskammer\, AWO Saarland\, ASB Saarland\, Peter-Imandt-Gesellschaft/Rosa-Luxemburg-Stiftung Saarland\, Stiftung Demokratie Saar in Zusammenarbeit mit der Stadt Sulzbach
URL:https://www.dkp-saarland.de/event/gedenkfeier-90-jahre-nie-zu-hitler/
LOCATION:Aula Sulzbach\, Gärtnerstraße 12\, Sulzbach\, 66280\, Deutschland
ATTACH;FMTTYPE=image/jpeg:https://www.dkp-saarland.de/wp-content/uploads/2024/08/Einladung2Sulzbach25082024.jpg
END:VEVENT
BEGIN:VEVENT
DTSTART;TZID=Europe/Berlin:20240826T170000
DTEND;TZID=Europe/Berlin:20240826T180000
DTSTAMP:20260420T110852
CREATED:20240815T073011Z
LAST-MODIFIED:20240815T073145Z
UID:486-1724691600-1724695200@www.dkp-saarland.de
SUMMARY:Gedenken zu 90 Jahre Einheitsfront-Kundgebung in Sulzbach/Saar
DESCRIPTION:Montag\, 26. August 24 | 17:00 Uhr | unterhalb des Gedenksteins der Kundgebung\, Nähe Waldheim 1\, 66280 Sulzbach\nAm 30. Juni 1934 schlossen die Kommunistische Partei und die Sozialdemokratische Partei im damaligen Saargebiet das antifaschistische Einheitsfrontabkommen. Dies führte zu einem beachtlichen Aufschwung antifaschistischer Aktionstätigkeit.\nIn der Folge kam es auch zu gemeinsamen Abkommen der Gewerkschaften und anderer Arbeiterorganisationen. Am 26. August 1934 fand in Sulzbach die große Massenkundgebung mit über 60.000 Menschen statt. Ziel war die Verhinderung des Anschlusses des Saargebietes an Hitler-Deutschland.\nDie Einheitsfront an der Saar konnte dieses Ziel nicht erreichen\, auch weil sie zu spät kam. Doch sie stellte die Weichen für den späteren antifaschistischen Widerstand von Sozialdemokraten und Kommunisten und den Neubeginn nach 1945.\nUnd heute sind die Lehren aus der Einheitsfront an der Saar aktueller denn je. Faschistische Parteien müssen wir aufhalten\, bevor sie auch nur in die Nähe der Macht kommen – und zwar gemeinsam mit allen demokratischen Kräften. Die Übernahme von Positionen der AfD durch andere Parteien macht sie nur stärker.\nWir wollen am Jahrestag der größten antifaschistischen Kundgebung auf deutschem Boden zwischen 1933 und 1945 gedenken: Wir wollen an diejenigen erinnern\, die mutig Widerstand gegen Hitler geleistet haben. Sie sind uns ein Vorbild\, nicht nachzulassen im Kampf für Frieden\, Demokratie und sozialen Fortschritt. \nNie wieder Faschismus – Nie wieder Krieg!\nUnterstützt von DKP Saarland\, NaturFreunde Saarland\, Peter-Imandt-Gesellschaft/RLS Saarland\, VVN-BdA Saarland
URL:https://www.dkp-saarland.de/event/gedenken-zu-90-jahre-einheitsfront-kundgebung-in-sulzbach-saar/
LOCATION:Gedenkstein Kundgebung Sulzbach\, Waldheim 1\, Sulzbach\, 66280\, Deutschland
ATTACH;FMTTYPE=image/jpeg:https://www.dkp-saarland.de/wp-content/uploads/2023/05/roter_keil_nachbau.jpg
END:VEVENT
END:VCALENDAR