BEGIN:VCALENDAR
VERSION:2.0
PRODID:-// - ECPv6.15.17.1//NONSGML v1.0//EN
CALSCALE:GREGORIAN
METHOD:PUBLISH
X-ORIGINAL-URL:https://www.dkp-saarland.de
X-WR-CALDESC:Veranstaltungen für 
REFRESH-INTERVAL;VALUE=DURATION:PT1H
X-Robots-Tag:noindex
X-PUBLISHED-TTL:PT1H
BEGIN:VTIMEZONE
TZID:Europe/Berlin
BEGIN:DAYLIGHT
TZOFFSETFROM:+0100
TZOFFSETTO:+0200
TZNAME:CEST
DTSTART:20240331T010000
END:DAYLIGHT
BEGIN:STANDARD
TZOFFSETFROM:+0200
TZOFFSETTO:+0100
TZNAME:CET
DTSTART:20241027T010000
END:STANDARD
BEGIN:DAYLIGHT
TZOFFSETFROM:+0100
TZOFFSETTO:+0200
TZNAME:CEST
DTSTART:20250330T010000
END:DAYLIGHT
BEGIN:STANDARD
TZOFFSETFROM:+0200
TZOFFSETTO:+0100
TZNAME:CET
DTSTART:20251026T010000
END:STANDARD
BEGIN:DAYLIGHT
TZOFFSETFROM:+0100
TZOFFSETTO:+0200
TZNAME:CEST
DTSTART:20260329T010000
END:DAYLIGHT
BEGIN:STANDARD
TZOFFSETFROM:+0200
TZOFFSETTO:+0100
TZNAME:CET
DTSTART:20261025T010000
END:STANDARD
END:VTIMEZONE
BEGIN:VEVENT
DTSTART;TZID=Europe/Berlin:20250617T193000
DTEND;TZID=Europe/Berlin:20250617T193000
DTSTAMP:20260419T182105
CREATED:20250530T122943Z
LAST-MODIFIED:20250530T123218Z
UID:552-1750188600-1750188600@www.dkp-saarland.de
SUMMARY:Autorenlesung „Geflohen. Verboten. Ausgeschlossen“
DESCRIPTION:Wie die kurdische Diaspora in Deutschland mundtod gemacht wird\nStaatliche Repression ist für die über eine Million in Deutschland lebenden Kurd:innen nahezu Alltag. Mit dem Verbot der PKK wurde jahrzehntelang gegen die drittgrößte migrantische Bevölkerungsgruppe vorgegangen.\nNie zuvor hat sich ein Buch schwerpunktmäßig mit der Repression gegen die kurdische Freiheitsbewegung in der deutschen Diaspora befasst.\nDie Autoren Alexander Glasner-Hummel und Kerem Schamberger werden auf der Veranstaltung die wichtigsten Erkenntnisse aus dem Buch zur Diskussion stellen und auch auf die aktuellen Entwicklungen eingehen\, die mit der Auflösung der PKK verbunden sind. \nEine Veranstaltung von: \nKurdisches Gesellschaftszentrum Saarbrücken und der DKP Saarland \n 
URL:https://www.dkp-saarland.de/event/autorenlesung-geflohen-verboten-ausgeschlossen/
LOCATION:Kulturzentrum Breite 63\, Breite Straße 63\, Saarbrücken\, 66115\, Germany
ATTACH;FMTTYPE=image/jpeg:https://www.dkp-saarland.de/wp-content/uploads/2025/05/kurden_buch-e1748608301883.jpeg
END:VEVENT
END:VCALENDAR